Workbook

Sheet Monthly Information
B1: [Cement Plant - Location] Type IL Cement Data Submission for Indiana DOT (INDOT)
B3: Plant Information
B4: Plant Location:
B5: QC Manager:
B6: E-mail:
B7: Phone Number:
B8: Month & Year:
B10: Constituent & Addition Information
B11: Product Designation:
B12: Constituent #1 Type:
B13: Consituent #1 Source:
B14: Consituent #1 Targeted Amount:
... B24: Monthly Data Summary
B25: Item (ASTM) | C25: Value
B26: Density (g/cm³) (Specific Gravity) (C188)
B27: Sulfate as SO₃ (%) (C114) | C27: ='Daily Sample Information'!H45
B28: *Mortar Bar Expansion (%) (C1038) | C28: ='Daily Sample Information'!I45
B29: Loss on Igntion (%) (C114) | C29: ='Daily Sample Information'!J45
B30: Equivalent Alkalies (%) (C114) | C30: ='Daily Sample Information'!M45
B31: Chloride Content (%) (C114) | C31: ='Daily Sample Information'!N45
B32: Limestone Content (%) (C114) | C32: ='Daily Sample Information'!Q45
B33: CaCO₃ in Limestone (%) (C114) | C33: ='Daily Sample Information'!R45
B34: Total CaCO₃ + MgCO₃ in LS (%) (C114) | C34: ='Daily Sample Information'!S45
B35: Air Content (%) (C185) | C35: ='Daily Sample Information'!T45
B36: 45 μm (No. 325) Sieve (%) (C430) | C36: ='Daily Sample Information'!V45
B37: Blaine Fineness (m²/kg) (C204) | C37: ='Daily Sample Information'!W45
B38: Compressive Strength (psi) (3 day) (C109) | C38: ='Daily Sample Information'!Y45
B39: Compressive Strength (psi) (7 day) (C109) | C39: ='Daily Sample Information'!Z45
B40: Compressive Strength (psi) (28 Day, previous month's data) (C109) | C40: ='Daily Sample Information'!#REF! -> #REF!
B41: Initial Vicat (minutes) (C191) | C41: ='Daily Sample Information'!AA45
B42: Final Vicat (minutes) (C191) | C42: ='Daily Sample Information'!AB45
B43: Heat of Hydration (kJ/kg) (3 Day) (C1702)

Sheet Daily Sample Information
B1: Daily Sample Data Report
B3: Material: | C3: Blended Hydraulic Cement
B4: Type: | C4: IL
B5: Month - Year:
B7: Test Data
C8: Chemical Data | T8: Physical Data | AE8: Physical Data
B9: Test Name | C9: Chemical Composition of Essential Constituents (XRF) | T9: Air Content | U9: Normal Consistency | V9: Fineness | X9: Compressive Strength | AA9: Vicat Time of Set | AE9: Compressive Strength (previous month)
B10: ASTM Standard | C10: ASTM C114 | I10: ASTM C1038 | J10: ASTM C114 | T10: ASTM C185 | U10: ASTM C187 | V10: ASTM C430 | W10: ASTM C204 | X10: ASTM C109 | AA10: ASTM C191 | AE10: ASTM C109
B11: Spec Limit | C11: N/A | D11: N/A | E11: N/A | F11: N/A | G11: N/A | H11: 3.0 max* | I11: 0.02 max | J11: 10.0 max | K11: N/A | L11: N/A | M11: N/A | N11: N/A | O11: N/A | P11: N/A | Q11: 10.4 max (INDOT RSP 901-M-069) | R11: 40.0 min | S11: 70.0 min | T11: 12.0 max | U11: N/A | V11: N/A | W11: N/A | X11: N/A | Y11: 1890 min | Z11: 2900 min | AA11: 45 min | AB11: 420 min | AE11: 3620 min
C12: SiO₂ | D12: Al₂O₃ | E12: Fe₂O₃ | F12: CaO | G12: MgO | H12: SO₃ | I12: *Mortar Bar Expansion (Report if SO₃ > 3.0%) | J12: Loss on Ignition (LOI) | K12: Na₂O | L12: K₂O | M12: Equivalent Alkalies Na₂O + 0.658*K₂O | N12: Chloride | O12: Insoluble Residue | P12: fCaO | Q12: Limestone | R12: CaCO₃ in Limestone | S12: Total CaCO₃ & MgCO₃ in LS | T12: Air Content | U12: Water Required for Normal Consistency of Cement Paste | V12: 45 µm (No. 325 Sieve) Fineness | W12: Blaine Fineness | X12: 1 day | Y12: 3 day | Z12: 7 day | AA12: Initial Set | AB12: Final Set | AE12: 28 day (previous month)
B13: Date | C13: % | D13: % | E13: % | F13: % | G13: % | H13: % | I13: % | J13: % | K13: % | L13: % | M13: % | N13: % | O13: % | P13: % | Q13: % | R13: % | S13: % | T13: % | U13: % | V13: % | W13: (m²/kg) | X13: psi | Y13: psi | Z13: psi | AA13: mins | AB13: mins | AD13: Date | AE13: psi
B14: X/X/XXXX | AD14: X/X/XXXX
B45: Monthly Average | C45: =IFERROR(AVERAGE(C14:C44),"") | D45: =IFERROR(AVERAGE(D14:D44),"") | E45: =IFERROR(AVERAGE(E14:E44),"") | F45: =IFERROR(AVERAGE(F14:F44),"") | G45: =IFERROR(AVERAGE(G14:G44),"") | H45: =IFERROR(AVERAGE(H14:H44),"") | I45: =IFERROR(AVERAGE(I14:I44),"") | J45: =IFERROR(AVERAGE(J14:J44),"") | ... T45: =IFERROR(AVERAGE(T14:T44),"") | V45: =IFERROR(AVERAGE(V14:V44),"") | W45: =IFERROR(AVERAGE(W14:W44),"") | X45: =IFERROR(AVERAGE(X14:X44),"") | Y45: =IFERROR(AVERAGE(Y14:Y44),"") | Z45: =IFERROR(AVERAGE(Z14:Z44),"") | AA45: =IFERROR(AVERAGE(AA14:AA44),"") | AB45: =IFERROR(AVERAGE(AB14:AB44),"") | AD45: Monthly Average | AE45: =IFERROR(AVERAGE(AE14:AE44),"")
